BEGIN:VCALENDAR
CALSCALE:GREGORIAN
VERSION:2.0
PRODID:-//Elixir ICalendar//Elixir ICalendar//EN
BEGIN:VEVENT
DTEND;TZID=America/Los_Angeles:20260420T004500
DTSTAMP:20260420T074145Z
DTSTART;TZID=America/Los_Angeles:20260419T214500
GEO:33.6827690070994;-117.13834941387178
LOCATION:Home 30188 Sunset Pier Drive 92584  CA United States
ORGANIZER:Kamil Afzal
STATUS:CONFIRMED
SUMMARY:Graduation Party
UID:05c558d3-de25-4b4f-99dc-02337b1965f2
URL:https://event.toncom159.com/events/05c558d3-de25-4b4f-99dc-02337b1965f2
END:VEVENT
END:VCALENDAR
